BEGIN:VCALENDAR
VERSION:2.0
PRODID:-//Ajuntament de Mont-roig del Camp - ECPv5.16.3.1//NONSGML v1.0//EN
CALSCALE:GREGORIAN
METHOD:PUBLISH
X-WR-CALNAME:Ajuntament de Mont-roig del Camp
X-ORIGINAL-URL:https://mont-roig.cat
X-WR-CALDESC:Esdeveniments per Ajuntament de Mont-roig del Camp
BEGIN:VTIMEZONE
TZID:Europe/Madrid
BEGIN:DAYLIGHT
TZOFFSETFROM:+0100
TZOFFSETTO:+0200
TZNAME:CEST
DTSTART:20210328T010000
END:DAYLIGHT
BEGIN:STANDARD
TZOFFSETFROM:+0200
TZOFFSETTO:+0100
TZNAME:CET
DTSTART:20211031T010000
END:STANDARD
END:VTIMEZONE
BEGIN:VEVENT
DTSTART;TZID=Europe/Madrid:20210504T160000
DTEND;TZID=Europe/Madrid:20210504T180000
DTSTAMP:20260421T205301
CREATED:20210415T102854Z
LAST-MODIFIED:20210415T102854Z
UID:54934-1620144000-1620151200@mont-roig.cat
SUMMARY:Taller Entrevistes
DESCRIPTION:Aquest taller consistirà a realitzar una entrevista fictícia per videoconferència i així poder analitzar els punts forts i febles i avaluar les competències professionals i personals dels candidats i les candidates\, a càrrec de Jaume Ravés \nDijous 4 de maig de 16 a 18 h. \nPer participar-hi envia un correu electrònic a promocio@mont-roig.cat\, amb nom i cognoms\, DNI\, correu electrònic i núm. de telèfon. També pots trucar al 977 17 27 25.
URL:https://mont-roig.cat/acte/taller-entrevistes/
CATEGORIES:Impuls Econòmic i Ocupació
END:VEVENT
END:VCALENDAR