BEGIN:VCALENDAR
VERSION:2.0
PRODID:-//Ajuntament de Mont-roig del Camp - ECPv5.16.3.1//NONSGML v1.0//EN
CALSCALE:GREGORIAN
METHOD:PUBLISH
X-WR-CALNAME:Ajuntament de Mont-roig del Camp
X-ORIGINAL-URL:https://mont-roig.cat
X-WR-CALDESC:Esdeveniments per Ajuntament de Mont-roig del Camp
BEGIN:VTIMEZONE
TZID:Europe/Madrid
BEGIN:DAYLIGHT
TZOFFSETFROM:+0100
TZOFFSETTO:+0200
TZNAME:CEST
DTSTART:20220327T010000
END:DAYLIGHT
BEGIN:STANDARD
TZOFFSETFROM:+0200
TZOFFSETTO:+0100
TZNAME:CET
DTSTART:20221030T010000
END:STANDARD
END:VTIMEZONE
BEGIN:VEVENT
DTSTART;VALUE=DATE:20220804
DTEND;VALUE=DATE:20220808
DTSTAMP:20260420T093521
CREATED:20220728T123245Z
LAST-MODIFIED:20220728T123508Z
UID:64250-1659571200-1659916799@mont-roig.cat
SUMMARY:139a Fira de Mont-roig del Camp
DESCRIPTION:Del 4 al 7 d’agost se celebra la 139a Fira de Mont-roig del Camp amb un programa d’activitats festives i tradicionals per a tots els públics\, un espai gastronòmic amb foodtrucks i les habituals atraccions i paradetes. \n\nPrograma de la 139a Fira de Mont-roig del Camp
URL:https://mont-roig.cat/acte/139a-fira-de-mont-roig-del-camp/
CATEGORIES:Festes,Impuls Econòmic i Ocupació
ATTACH;FMTTYPE=image/jpeg:https://mont-roig.cat/wp-content/uploads/Cartell-139a-Fira-de-Mont-roig-del-Camp.jpeg
END:VEVENT
END:VCALENDAR