BEGIN:VCALENDAR
VERSION:2.0
PRODID:-//Ajuntament de Mont-roig del Camp - ECPv5.16.3.1//NONSGML v1.0//EN
CALSCALE:GREGORIAN
METHOD:PUBLISH
X-WR-CALNAME:Ajuntament de Mont-roig del Camp
X-ORIGINAL-URL:https://mont-roig.cat
X-WR-CALDESC:Esdeveniments per Ajuntament de Mont-roig del Camp
BEGIN:VTIMEZONE
TZID:Europe/Madrid
BEGIN:DAYLIGHT
TZOFFSETFROM:+0100
TZOFFSETTO:+0200
TZNAME:CEST
DTSTART:20220327T010000
END:DAYLIGHT
BEGIN:STANDARD
TZOFFSETFROM:+0200
TZOFFSETTO:+0100
TZNAME:CET
DTSTART:20221030T010000
END:STANDARD
END:VTIMEZONE
BEGIN:VEVENT
DTSTART;VALUE=DATE:20220219
DTEND;VALUE=DATE:20220220
DTSTAMP:20260421T230840
CREATED:20220201T162640Z
LAST-MODIFIED:20220209T121544Z
UID:60305-1645228800-1645315199@mont-roig.cat
SUMMARY:Sortida TOK'L2 amb Skating i Frida Kahlo\,
DESCRIPTION:Gaudeix patinant sobre gel a les instal·lacions del FC Barcelona\, i a la tarda viatja a través de la vida d’una de les artistes més influents de tots els temps\, Frida Kahlo al centre d’arts digitals Ideal. \nDissabte 19 de febrer.\n17 € (Inclou transport\, entrades i assegurança)\nInscripcions fins al 10 de febrer. Places limitades.\nPer a majors de 12 anys. \nPreinscripció a través de l’app eAgora i al correu electrònic joventut@mont-roig.ca
URL:https://mont-roig.cat/acte/sortida-tokl2-amb-staking-i-frida-kalho/
LOCATION:altres
CATEGORIES:Ajuntament,Joventut
ATTACH;FMTTYPE=image/png:https://mont-roig.cat/wp-content/uploads/Post-Insta-Skating.png
END:VEVENT
END:VCALENDAR