BEGIN:VCALENDAR
VERSION:2.0
PRODID:-//Ajuntament de Mont-roig del Camp - ECPv5.16.3.1//NONSGML v1.0//EN
CALSCALE:GREGORIAN
METHOD:PUBLISH
X-WR-CALNAME:Ajuntament de Mont-roig del Camp
X-ORIGINAL-URL:https://mont-roig.cat
X-WR-CALDESC:Esdeveniments per Ajuntament de Mont-roig del Camp
BEGIN:VTIMEZONE
TZID:Europe/Madrid
BEGIN:DAYLIGHT
TZOFFSETFROM:+0100
TZOFFSETTO:+0200
TZNAME:CEST
DTSTART:20220327T010000
END:DAYLIGHT
BEGIN:STANDARD
TZOFFSETFROM:+0200
TZOFFSETTO:+0100
TZNAME:CET
DTSTART:20221030T010000
END:STANDARD
END:VTIMEZONE
BEGIN:VEVENT
DTSTART;TZID=Europe/Madrid:20220304T180000
DTEND;TZID=Europe/Madrid:20220304T190000
DTSTAMP:20260422T043539
CREATED:20220302T180835Z
LAST-MODIFIED:20220302T180835Z
UID:61095-1646416800-1646420400@mont-roig.cat
SUMMARY:Col·loqui amb Ame Soler\, il·lustradora de Tres voltes rebel
DESCRIPTION:
URL:https://mont-roig.cat/acte/colloqui-amb-ame-soler-illustradora-de-tres-voltes-rebel/
LOCATION:Centre Polivalent Sant Jaume\, Carrer de Sòria\, 18\, Miami Platja\, Tarragona\, 43892\, Spain
CATEGORIES:Ajuntament,Joventut
ATTACH;FMTTYPE=image/png:https://mont-roig.cat/wp-content/uploads/1-3-1.png
END:VEVENT
END:VCALENDAR