BEGIN:VCALENDAR
VERSION:2.0
PRODID:-//Ajuntament de Mont-roig del Camp - ECPv5.16.3.1//NONSGML v1.0//EN
CALSCALE:GREGORIAN
METHOD:PUBLISH
X-WR-CALNAME:Ajuntament de Mont-roig del Camp
X-ORIGINAL-URL:https://mont-roig.cat
X-WR-CALDESC:Esdeveniments per Ajuntament de Mont-roig del Camp
BEGIN:VTIMEZONE
TZID:Europe/Madrid
BEGIN:DAYLIGHT
TZOFFSETFROM:+0100
TZOFFSETTO:+0200
TZNAME:CEST
DTSTART:20220327T010000
END:DAYLIGHT
BEGIN:STANDARD
TZOFFSETFROM:+0200
TZOFFSETTO:+0100
TZNAME:CET
DTSTART:20221030T010000
END:STANDARD
END:VTIMEZONE
BEGIN:VEVENT
DTSTART;TZID=Europe/Madrid:20220310T170000
DTEND;TZID=Europe/Madrid:20220310T200000
DTSTAMP:20260422T155523
CREATED:20220302T182021Z
LAST-MODIFIED:20220302T182021Z
UID:61110-1646931600-1646942400@mont-roig.cat
SUMMARY:Sortida amb ulleres liles!
DESCRIPTION:
URL:https://mont-roig.cat/acte/sortida-amb-ulleres-liles-2/
LOCATION:Parc Lilí
CATEGORIES:Ajuntament,Joventut
ATTACH;FMTTYPE=image/png:https://mont-roig.cat/wp-content/uploads/1-1.png
END:VEVENT
END:VCALENDAR