BEGIN:VCALENDAR
VERSION:2.0
PRODID:-//Ajuntament de Mont-roig del Camp - ECPv5.16.3.1//NONSGML v1.0//EN
CALSCALE:GREGORIAN
METHOD:PUBLISH
X-WR-CALNAME:Ajuntament de Mont-roig del Camp
X-ORIGINAL-URL:https://mont-roig.cat
X-WR-CALDESC:Esdeveniments per Ajuntament de Mont-roig del Camp
BEGIN:VTIMEZONE
TZID:Europe/Madrid
BEGIN:DAYLIGHT
TZOFFSETFROM:+0100
TZOFFSETTO:+0200
TZNAME:CEST
DTSTART:20260329T010000
END:DAYLIGHT
BEGIN:STANDARD
TZOFFSETFROM:+0200
TZOFFSETTO:+0100
TZNAME:CET
DTSTART:20261025T010000
END:STANDARD
END:VTIMEZONE
BEGIN:VEVENT
DTSTART;TZID=Europe/Madrid:20260114T190000
DTEND;TZID=Europe/Madrid:20260114T200000
DTSTAMP:20260420T095105
CREATED:20260109T111349Z
LAST-MODIFIED:20260109T111608Z
UID:87877-1768417200-1768420800@mont-roig.cat
SUMMARY:Coaching benestar emocional familiar
DESCRIPTION:Vols millorar la comunicació amb joves o adolescents? A través d’aquests tallers aprendràs a gestionar el dia a dia des de la intel·ligència emocional i el respecte. \nQuè hi trobaràs? Eines reals per posar límits sense crits\, gestionar conflictes amb calma i reforçar el vincle familiar. Una formació vivencial per a famílies i professionals que busquen solucions pràctiques. \n𝐒𝐄𝐒𝐒𝐈𝐎̄ 1: Com marcar límits no violents. Aprendre a dir “no” sense entrar en lluites de poder ni perdre l’autoritat. \n  \n\nMiami Platja: Dimecres\, 14 de gener | 19h (Polivalent)\nAdreçat a: Famílies i professionals.\nMés informació a: joventut@mont-roig.cat
URL:https://mont-roig.cat/acte/coaching-benestar-emocional-familiar/
LOCATION:Centre Polivalent Sant Jaume\, Carrer de Sòria\, 18\, Miami Platja\, Tarragona\, 43892\, Spain
CATEGORIES:Ajuntament,Joventut
ATTACH;FMTTYPE=image/jpeg:https://mont-roig.cat/wp-content/uploads/Tallers-Coaching-A4.jpg
END:VEVENT
END:VCALENDAR