BEGIN:VCALENDAR
VERSION:2.0
PRODID:-//Ajuntament de Mont-roig del Camp - ECPv5.16.3.1//NONSGML v1.0//EN
CALSCALE:GREGORIAN
METHOD:PUBLISH
X-WR-CALNAME:Ajuntament de Mont-roig del Camp
X-ORIGINAL-URL:https://mont-roig.cat
X-WR-CALDESC:Esdeveniments per Ajuntament de Mont-roig del Camp
BEGIN:VTIMEZONE
TZID:Europe/Madrid
BEGIN:DAYLIGHT
TZOFFSETFROM:+0100
TZOFFSETTO:+0200
TZNAME:CEST
DTSTART:20260329T010000
END:DAYLIGHT
BEGIN:STANDARD
TZOFFSETFROM:+0200
TZOFFSETTO:+0100
TZNAME:CET
DTSTART:20261025T010000
END:STANDARD
END:VTIMEZONE
BEGIN:VEVENT
DTSTART;VALUE=DATE:20260315
DTEND;VALUE=DATE:20260316
DTSTAMP:20260421T150029
CREATED:20260202T085015Z
LAST-MODIFIED:20260226T093419Z
UID:88496-1773532800-1773619199@mont-roig.cat
SUMMARY:TOK'L2: Anem al cinema!
DESCRIPTION:Mont-roig del Camp i Miami Platja \nSortida per gaudir d’una pel·lícula en grup i compartir una estona d’oci cultural i de convivència. \nUna activitat per desconnectar\, passar-ho bé i viure el cinema d’una manera col·lectiva. \n\nLloc: Les Gavarres – Tarragona\nPreu: 10 € – Inclou entrada\, transport i assegurança\nInscripcions: joventut@mont-roig.cat\nMés de 12 anys
URL:https://mont-roig.cat/acte/tokl2-anem-al-cinema/
LOCATION:Espai Jove K1\, Carrer Aureli M. Escarré\, 28\, Mont-roig del Camp\, Tarragona\, 43300\, Spain
CATEGORIES:Ajuntament,Joventut
ATTACH;FMTTYPE=image/jpeg:https://mont-roig.cat/wp-content/uploads/cinema.jpg
END:VEVENT
END:VCALENDAR