BEGIN:VCALENDAR
VERSION:2.0
PRODID:-//Ajuntament de Mont-roig del Camp - ECPv5.16.3.1//NONSGML v1.0//EN
CALSCALE:GREGORIAN
METHOD:PUBLISH
X-WR-CALNAME:Ajuntament de Mont-roig del Camp
X-ORIGINAL-URL:https://mont-roig.cat
X-WR-CALDESC:Esdeveniments per Ajuntament de Mont-roig del Camp
BEGIN:VTIMEZONE
TZID:Europe/Madrid
BEGIN:DAYLIGHT
TZOFFSETFROM:+0100
TZOFFSETTO:+0200
TZNAME:CEST
DTSTART:20260329T010000
END:DAYLIGHT
BEGIN:STANDARD
TZOFFSETFROM:+0200
TZOFFSETTO:+0100
TZNAME:CET
DTSTART:20261025T010000
END:STANDARD
END:VTIMEZONE
BEGIN:VEVENT
DTSTART;TZID=Europe/Madrid:20260323T160000
DTEND;TZID=Europe/Madrid:20260323T200000
DTSTAMP:20260420T184403
CREATED:20260224T091649Z
LAST-MODIFIED:20260224T091649Z
UID:89261-1774281600-1774296000@mont-roig.cat
SUMMARY:Curs: Monitoratge de Transport Escolar
DESCRIPTION:Miami Platja \nCurs de Monitoratge de Transport Escolar\, una formació pensada per acompanyar infants i joves amb responsabilitat\, garantint la seguretat i la convivència. \nVols treballar en l’àmbit educatiu i de lleure? Doncs aquesta és una oportunitat per millorar el teu perfil professional i ampliar sortides laborals. \n\nDe 16.00 h a 20.00 h\nTeatre Centre Polivalent\nPreu: 15 € (places limitades)\nA partir de 18 anys\nInscripcions obertes fins al 16/03\n\nSi vols sumar experiència\, responsabilitat i noves oportunitats al teu currículum\, aquest curs és per a tu. \nInscriu-te a eAgora i reserva la teva plaça!
URL:https://mont-roig.cat/acte/curs-monitoratge-de-transport-escolar/
LOCATION:Centre Polivalent Sant Jaume\, Carrer de Sòria\, 18\, Miami Platja\, Tarragona\, 43892\, Spain
CATEGORIES:Ajuntament,Joventut
ATTACH;FMTTYPE=image/jpeg:https://mont-roig.cat/wp-content/uploads/transport-escolat.jpg
END:VEVENT
END:VCALENDAR