BEGIN:VCALENDAR
VERSION:2.0
PRODID:-//Ajuntament de Mont-roig del Camp - ECPv5.16.3.1//NONSGML v1.0//EN
CALSCALE:GREGORIAN
METHOD:PUBLISH
X-WR-CALNAME:Ajuntament de Mont-roig del Camp
X-ORIGINAL-URL:https://mont-roig.cat
X-WR-CALDESC:Esdeveniments per Ajuntament de Mont-roig del Camp
BEGIN:VTIMEZONE
TZID:Europe/Madrid
BEGIN:DAYLIGHT
TZOFFSETFROM:+0100
TZOFFSETTO:+0200
TZNAME:CEST
DTSTART:20260329T010000
END:DAYLIGHT
BEGIN:STANDARD
TZOFFSETFROM:+0200
TZOFFSETTO:+0100
TZNAME:CET
DTSTART:20261025T010000
END:STANDARD
END:VTIMEZONE
BEGIN:VEVENT
DTSTART;TZID=Europe/Madrid:20260325T170000
DTEND;TZID=Europe/Madrid:20260325T200000
DTSTAMP:20260421T124756
CREATED:20260203T085059Z
LAST-MODIFIED:20260203T085059Z
UID:88553-1774458000-1774468800@mont-roig.cat
SUMMARY:Comença la partida!
DESCRIPTION:Mont-roig del Camp \nUna tarda per jugar\, decidir i gaudir en comunitat\, mentre descobrim jocs de rol\, estratègia\, cooperatius i de party per a totes les edats i gustos. \nUna activitat pensada per fomentar la creativitat\, l’enginy i el joc social. Tu tries\, tu jugues! \nEspai Jove K1
URL:https://mont-roig.cat/acte/comenca-la-partida-2/
LOCATION:Espai Jove K1\, Carrer Aureli M. Escarré\, 28\, Mont-roig del Camp\, Tarragona\, 43300\, Spain
CATEGORIES:Ajuntament,Joventut
ATTACH;FMTTYPE=image/png:https://mont-roig.cat/wp-content/uploads/JOCS-BANNER.png
END:VEVENT
BEGIN:VEVENT
DTSTART;TZID=Europe/Madrid:20260325T190000
DTEND;TZID=Europe/Madrid:20260325T203000
DTSTAMP:20260421T124756
CREATED:20260211T082006Z
LAST-MODIFIED:20260211T082006Z
UID:88854-1774465200-1774470600@mont-roig.cat
SUMMARY:Taller: Benestar emocional
DESCRIPTION:Mont-roig del Camp i Miami Platja\n\n\n\nFormació pràctica per famílies i professional per millorar la comunicació amb els preadolescents i adolescents\, amb eines d’intel·ligència emocional i comunicació no violenta. \n\nLloc: Taller Online\nPreu: Gratuït\nInscripció i més informació: joventut@mont-roig.cat
URL:https://mont-roig.cat/acte/taller-benestar-emocional-2/
LOCATION:On Line
CATEGORIES:Ajuntament,Joventut
ATTACH;FMTTYPE=image/jpeg:https://mont-roig.cat/wp-content/uploads/Tallers-Coaching-02.jpg
END:VEVENT
END:VCALENDAR