BEGIN:VCALENDAR
VERSION:2.0
PRODID:-//Ajuntament de Mont-roig del Camp - ECPv5.16.3.1//NONSGML v1.0//EN
CALSCALE:GREGORIAN
METHOD:PUBLISH
X-WR-CALNAME:Ajuntament de Mont-roig del Camp
X-ORIGINAL-URL:https://mont-roig.cat
X-WR-CALDESC:Esdeveniments per Ajuntament de Mont-roig del Camp
BEGIN:VTIMEZONE
TZID:Europe/Madrid
BEGIN:DAYLIGHT
TZOFFSETFROM:+0100
TZOFFSETTO:+0200
TZNAME:CEST
DTSTART:20260329T010000
END:DAYLIGHT
BEGIN:STANDARD
TZOFFSETFROM:+0200
TZOFFSETTO:+0100
TZNAME:CET
DTSTART:20261025T010000
END:STANDARD
END:VTIMEZONE
BEGIN:VEVENT
DTSTART;TZID=Europe/Madrid:20260520T170000
DTEND;TZID=Europe/Madrid:20260520T170000
DTSTAMP:20260422T072316
CREATED:20260311T120258Z
LAST-MODIFIED:20260311T120258Z
UID:90071-1779296400-1779296400@mont-roig.cat
SUMMARY:Va de tapes!
DESCRIPTION:Miami Platja \n\nCrearem un assortit de tapes fàcils\, per quedar bé amb qualsevol convidat o llepar-te els dits un dia qualsevol. \n\nL’Espai\nA partir de 12 anys\nGratuït\nInscripció: joventut@mont-roig.cat
URL:https://mont-roig.cat/acte/va-de-tapes-2/
LOCATION:L’Espai\, Avinguda Málaga 32\, Miami Platja\, Tarragona\, 43892\, Spain
CATEGORIES:Ajuntament,Joventut
ATTACH;FMTTYPE=image/png:https://mont-roig.cat/wp-content/uploads/BANNER-TAPES.png
END:VEVENT
END:VCALENDAR