BEGIN:VCALENDAR
VERSION:2.0
PRODID:-//Ajuntament de Mont-roig del Camp - ECPv5.16.3.1//NONSGML v1.0//EN
CALSCALE:GREGORIAN
METHOD:PUBLISH
X-WR-CALNAME:Ajuntament de Mont-roig del Camp
X-ORIGINAL-URL:https://mont-roig.cat
X-WR-CALDESC:Esdeveniments per Ajuntament de Mont-roig del Camp
BEGIN:VTIMEZONE
TZID:Europe/Madrid
BEGIN:DAYLIGHT
TZOFFSETFROM:+0100
TZOFFSETTO:+0200
TZNAME:CEST
DTSTART:20250330T010000
END:DAYLIGHT
BEGIN:STANDARD
TZOFFSETFROM:+0200
TZOFFSETTO:+0100
TZNAME:CET
DTSTART:20251026T010000
END:STANDARD
END:VTIMEZONE
BEGIN:VEVENT
DTSTART;TZID=Europe/Madrid:20251221T110000
DTEND;TZID=Europe/Madrid:20251221T130000
DTSTAMP:20260422T143045
CREATED:20251217T125713Z
LAST-MODIFIED:20251217T133603Z
UID:87408-1766314800-1766322000@mont-roig.cat
SUMMARY:Pedalada de contes
DESCRIPTION:Descobreix personatges fantàstics i petites sorpreses literàries amb aquesta activitat saludable i nadalenca per gaudir en família. \n  \n*Famílies\, us esperem super preparats cadascú amb la seva bicicleta!
URL:https://mont-roig.cat/acte/pedalada-de-contes/
LOCATION:Passeig de les Cales\, Edifici Sicoris
CATEGORIES:Ajuntament,Mobilitat i transport
ATTACH;FMTTYPE=image/png:https://mont-roig.cat/wp-content/uploads/PEDALADA.png
END:VEVENT
END:VCALENDAR