BEGIN:VCALENDAR
VERSION:2.0
PRODID:-//Ajuntament de Mont-roig del Camp - ECPv5.16.3.1//NONSGML v1.0//EN
CALSCALE:GREGORIAN
METHOD:PUBLISH
X-WR-CALNAME:Ajuntament de Mont-roig del Camp
X-ORIGINAL-URL:https://mont-roig.cat
X-WR-CALDESC:Esdeveniments per Ajuntament de Mont-roig del Camp
BEGIN:VTIMEZONE
TZID:Europe/Madrid
BEGIN:DAYLIGHT
TZOFFSETFROM:+0100
TZOFFSETTO:+0200
TZNAME:CEST
DTSTART:20230326T010000
END:DAYLIGHT
BEGIN:STANDARD
TZOFFSETFROM:+0200
TZOFFSETTO:+0100
TZNAME:CET
DTSTART:20231029T010000
END:STANDARD
END:VTIMEZONE
BEGIN:VEVENT
DTSTART;TZID=Europe/Madrid:20230110T190000
DTEND;TZID=Europe/Madrid:20230110T203000
DTSTAMP:20260423T073958
CREATED:20230103T111828Z
LAST-MODIFIED:20230103T111847Z
UID:67403-1673377200-1673382600@mont-roig.cat
SUMMARY:Sessió informativa sobre el procés dels Pressupostos participatius
DESCRIPTION:
URL:https://mont-roig.cat/acte/sessio-informativa-sobre-el-proces-dels-pressupostos-participatius/
LOCATION:Centre Polivalent Sant Jaume\, Carrer de Sòria\, 18\, Miami Platja\, Tarragona\, 43892\, Spain
CATEGORIES:Ajuntament,Participació Ciutadana
END:VEVENT
END:VCALENDAR