BEGIN:VCALENDAR
VERSION:2.0
PRODID:-//Ajuntament de Mont-roig del Camp - ECPv5.16.3.1//NONSGML v1.0//EN
CALSCALE:GREGORIAN
METHOD:PUBLISH
X-WR-CALNAME:Ajuntament de Mont-roig del Camp
X-ORIGINAL-URL:https://mont-roig.cat
X-WR-CALDESC:Esdeveniments per Ajuntament de Mont-roig del Camp
BEGIN:VTIMEZONE
TZID:Europe/Madrid
BEGIN:DAYLIGHT
TZOFFSETFROM:+0100
TZOFFSETTO:+0200
TZNAME:CEST
DTSTART:20260329T010000
END:DAYLIGHT
BEGIN:STANDARD
TZOFFSETFROM:+0200
TZOFFSETTO:+0100
TZNAME:CET
DTSTART:20261025T010000
END:STANDARD
END:VTIMEZONE
BEGIN:VEVENT
DTSTART;TZID=Europe/Madrid:20260326T170000
DTEND;TZID=Europe/Madrid:20260326T170000
DTSTAMP:20260419T171340
CREATED:20260302T124703Z
LAST-MODIFIED:20260302T124703Z
UID:89607-1774544400-1774544400@mont-roig.cat
SUMMARY:Titelles: La Casa de Xocolata
DESCRIPTION:Mont-roig del Camp \n\nAquesta nova evrsió del classic Hänsel i Gretel dona una visió actual que parla sobre la violència de gènere i l’opressió de les dones. \nA càrrec de la companyia La Pantomima. \nS’oferirà xocolata calenta als assistens \n\nPer a públic familiar
URL:https://mont-roig.cat/acte/titelles-la-casa-de-xocolata/
LOCATION:Casa de la Cultura\, Carrer Mare de Déu de la Roca\, 5\, Mont-roig del Camp\, Tarragona\, 43300\, Spain
CATEGORIES:Ajuntament,Igualtat,Polítiques d'Igualtat i de les Dones
ATTACH;FMTTYPE=image/jpeg:https://mont-roig.cat/wp-content/uploads/8N-09.jpg
GEO:41.08714;0.958
X-APPLE-STRUCTURED-LOCATION;VALUE=URI;X-ADDRESS=Casa de la Cultura Carrer Mare de Déu de la Roca 5 Mont-roig del Camp Tarragona 43300 Spain;X-APPLE-RADIUS=500;X-TITLE=Carrer Mare de Déu de la Roca\, 5:geo:0.958,41.08714
END:VEVENT
END:VCALENDAR