BEGIN:VCALENDAR
VERSION:2.0
PRODID:-//Ajuntament de Mont-roig del Camp - ECPv5.16.3.1//NONSGML v1.0//EN
CALSCALE:GREGORIAN
METHOD:PUBLISH
X-WR-CALNAME:Ajuntament de Mont-roig del Camp
X-ORIGINAL-URL:https://mont-roig.cat
X-WR-CALDESC:Esdeveniments per Ajuntament de Mont-roig del Camp
BEGIN:VTIMEZONE
TZID:Europe/Madrid
BEGIN:DAYLIGHT
TZOFFSETFROM:+0100
TZOFFSETTO:+0200
TZNAME:CEST
DTSTART:20230326T010000
END:DAYLIGHT
BEGIN:STANDARD
TZOFFSETFROM:+0200
TZOFFSETTO:+0100
TZNAME:CET
DTSTART:20231029T010000
END:STANDARD
END:VTIMEZONE
BEGIN:VEVENT
DTSTART;TZID=Europe/Madrid:20230715T210000
DTEND;TZID=Europe/Madrid:20230715T210000
DTSTAMP:20260422T055833
CREATED:20230703T123847Z
LAST-MODIFIED:20230703T125121Z
UID:71201-1689454800-1689454800@mont-roig.cat
SUMMARY:Concert homenatge a Miró amb Maria del Mar Bonet
DESCRIPTION:
URL:https://mont-roig.cat/acte/concert-homenatge-a-miro-amb-maria-del-mar-bonet/
LOCATION:Mas Miró\, Mont-roig\, Tarragona\, 43300
CATEGORIES:Ajuntament,Turisme
ATTACH;FMTTYPE=image/jpeg:https://mont-roig.cat/wp-content/uploads/AAFF_Disseny-Cartell-A3_Mas-Miro_Concert_Maria-del-Mar-Bonet_Digital-scaled.jpg
END:VEVENT
END:VCALENDAR